BEGIN:VCALENDAR
VERSION:2.0
PRODID:-// - ECPv5.16.4//NONSGML v1.0//EN
CALSCALE:GREGORIAN
METHOD:PUBLISH
X-ORIGINAL-URL:https://www.pyaykhaing.com
X-WR-CALDESC:Events for 
BEGIN:VTIMEZONE
TZID:UTC
BEGIN:STANDARD
TZOFFSETFROM:+0000
TZOFFSETTO:+0000
TZNAME:UTC
DTSTART:20190101T000000
END:STANDARD
END:VTIMEZONE
BEGIN:VEVENT
DTSTART;TZID=UTC:20190209T083000
DTEND;TZID=UTC:20190210T203000
DTSTAMP:20260425T141921
CREATED:20190103T082418Z
LAST-MODIFIED:20190104T154512Z
UID:1210-1549701000-1549830600@www.pyaykhaing.com
SUMMARY:Breakthrough To Success in Mandalay
DESCRIPTION:“ကိုယ့္ရဲ႕ ဘဝရည္မွန္းခ်က္ေတြ၊ ေအာင္ျမင္မႈေတြကို ကိုယ္ကိုယ္တိုင္ပဲ စီစဥ္ရမွာပါ”\n\n\n \n\n\n\n\n\n\n\n\nေက်ာင္းျပီးတာနဲ႔ ေဖေဖ၊ ေမေမတို႔ ေထာင္တဲ႔ ကုမၸဏီ ကို ဝင္လုပ္ရေလာက္ေအာင္ထိက်ေတာ႔လဲ ကိုယ့္ဘဝကို မေအးေအးဝင္းကစီစဥ္ေပး ေနတာမွ မဟုတ္ပဲ😤\n\n\n \n\n\n \n\n\nရည္မွန္းခ်က္ေတာ႔ ရွိေနျပီ ေအာင္ျမင္ေအာင္ဘယ္လိုလုပ္မလဲ ❓❓\n\n\n \n\n\n \n\n\nေအာင္ျမင္မႈေတြကို ရရွိလာေအာင္ အဓိက အက်ဆံုးအရာကေတာ႔ တျခားကို ေျပးျမင္စရာမလိုပါဘူး😮\n\n\n \n\n\n \n\n\nအဲ့အရာက ကြ်န္ေတာ္တို႔မွာ ရွိျပီးသားပါ👉👉\n\n\n \n\n\n \n\n\nကြ်န္ေတာ္တို႔ရဲ႕ “စိတ္” ပါပဲ🤗\n\n\n \n\n\nကြ်န္ေတာ္တို႔ ဝါသနာ ပါတဲ႔ အလုပ္ေတြကို လုပ္ၾကတယ္။ \n\n\nအေတြ႕အၾကံဳေတြ ယူၾကတယ္👍\n\n\nစစခ်င္းမွာ သိပ္ကို တက္ၾကြတယ္💪\n\n\nအရမ္းကိုၾကိဳးၾကိဳးစားစားလုပ္တယ္🤗\n\n\n \n\n\n \n\n\nေနာက္ပိုင္းမွာ ကိုယ့္ခ်မွတ္ထားတဲ႔ ဆံုးျဖတ္ခ်က္ေတြ Goal ေတြဟာ ေဝဝါးလာတယ္💬💬\n\n\n \n\n\nမိတ္ေဆြတို႔ ဘာေၾကာင့္လို႔ထင္လဲ❓\n\n\n \n\n\nသိစိတ္နဲ႔ မသိစိတ္မွာ မသိစိတ္ရဲ႕ စြမ္းအားက လြန္စြာၾကီးမားပါတယ္။\n\n\nမသိစိတ္ဟာ ကြ်န္ေတာ္တို႔ကို ေကာင္းတဲ႔ ရလာဒ္ေတြဆီ ေခၚသြားႏိုင္သလို မေကာင္းတဲ႔ Negative Thinking လို႔ေခၚတဲ႔ ရလာဒ္ဆိုးေတြဆီ ေရာက္ေအာင္လဲ တြန္းပို႔ႏိုင္ပါတယ္\n\n\n \n\n\n👉 You’re not Your Mind\n\n\n \n\n\n \n\n\nစိတ္ရဲ႕ ေစခိုင္းျခင္းေနာက္ကို လိုက္ပါေနဖို႔ မလိုပါဘူး။\n\n\n \n\n\nNegative Thinking လို႔ေခၚတဲ႔ ဂ်င္းေကာင္းေလးကို တိုက္ထုတ္ဖို႔ မိတ္ေဆြတို႔ဘာလုပ္မလဲ ❓❓\n\n\n\n\n\n\n\n\n🗝စိတ္ခ်မ္းသာမႈ\n\n\n🗝ေပါင္းသင္းဆက္ဆံေရးနဲ႔ \n\n\n🗝က်န္းမာေပ်ာ္ရႊင္တဲ႔ ဘဝကို ပိုင္ဆိုင္ႏိုင္ဖို႔ရာ အဓိကအက်ဆံုးအရာက ဘာမ်ားျဖစ္မလဲ ❓\n\n\n \n\n\n \n\n\nဒီအျခင္းအရာေတြကို 💎Crystal Clear (ရွင္းရွင္းလင္းလင္း) ထိုးေဖာက္သိျမင္လာေစဖို႔အတြက္ မိတ္ေဆြတို႔ဆီကို “Breakthrough to SUCCESS-B2S” – Neuro Linguistic Programming (1st NLP Based Professional Development Program In Myanmar Since 2013) ဆိုတဲ႔ သင္တန္းေလးကို ယူေဆာင္လာခဲ့ပါျပီ👏👏\n\n\n\n\n\n\n\n\n\n\n\n\n\n\nNLP Techniques မ်ားကို သုံးၿပီး မိမိရဲ႕\n\n\n \n\n\n✔️ကိုယ္ \n\n\n✔️နႈတ္\n\n\n✔️စိတ္ (၃)ခု စလုံးကို ေန႔စဥ္ ႀကဳံေတြ႕ေနရတဲ့ ျပသာနာေတြ၊ အခက္အခဲေတြ၊ အဆင္မေျပမႈေတြ ၾကားကေန ဘယ္လို႐ုန္းထြက္ၿပီး အေကာင္းမြန္ဆုံး ေအာင္ျမင္ ေပ်ာ္႐ႊင္ေအာင္ေနထိုင္မလဲ ဆိုတာကိုအထူးသင္ၾကားေပးမွာ ျဖစ္ပါတယ္🤝\n\n\n\n\n\n\n\n\n\n\n\n\n\n\n\n\n\nBreakthrough To Success In MANDALAY \n\n\n\n\n\n\n\n\n▄▄▄▄▄▄▄▄▄▄▄▄▄▄▄▄▄▄▄\n\n\n\n\n\n\n\n\n 📆Date – 9 February 2019 (Saturday) \, 10 February 2019 (Sunday) \n\n\n\n\n\n⏰Time – 8:30 AM to 8:30 PM \n\n\n\n\n\n🏠Location – Royal Mingalar Hotel (Corner of 73th Street & Ngu Shwe Wah St\, ChanMyaTharSi Township\, Mandalay) \n\n\n\n\n\n\n\n\n\n\n\n▄▄▄▄▄▄▄▄▄▄▄▄▄▄▄▄▄▄▄\n\n\n\n\n\n\n\n\n\n\n\n\n\n\nေလးစားစြာျဖင့္\n\n\n \n\n\nLive with Passion 🤗\n\n\n \n\n\nေျပခိုင္\n\n\n \n\n\n🎓 Asia’s Top Business & Success Coach\n\n\n🎓 1st ActionCOACH (Business Coaching) from Myanmar\n\n\n🎓 1st NLP Trainer from Myanmar\n\n\n🎓 1st NLP Coach Trainer from Myanmar\n\n\n🎓 Executive Director & Certified Coach\, Trainer & Speaker at John Maxwell Team (JMT) \n\n\n🎓 Master Trainer\, Coach\, Facilitator at Myanmar Excellence Institute (MEI)\n\n\n#EmpoweringLivesEveryDay\n\n\n#MEI
URL:https://www.pyaykhaing.com/event/breakthrough-to-success-in-mandalay/
LOCATION:Royal Mingalar Hotel\, Corner of 73 st & Ngu Shwe Wah Street\, Chan Mya Thar Zi Township\, Mandalay\, Myanmar
CATEGORIES:Training
ORGANIZER;CN="MYANMAR%20EXCELLENCE%20INSTITUTE":MAILTO:info@myanmarexcellence.com
END:VEVENT
END:VCALENDAR